Package: OmicCircos Version: 1.45.0 Command: rm -rf OmicCircos.buildbin-libdir && mkdir OmicCircos.buildbin-libdir && /Users/biocbuild/BBS/utils/build-universal.sh OmicCircos_1.45.0.tar.gz /Library/Frameworks/R.framework/Resources/bin/R OmicCircos.buildbin-libdir StartedAt: 2025-02-09 22:24:05 -0500 (Sun, 09 Feb 2025) EndedAt: 2025-02-09 22:24:11 -0500 (Sun, 09 Feb 2025) EllapsedTime: 6.1 seconds RetCode: 0 Status: OK PackageFile: OmicCircos_1.45.0.tgz PackageFileSize: 5.066 MiB