Package: OmicCircos Version: 1.45.0 Command: /Library/Frameworks/R.framework/Resources/bin/R CMD check --install=check:OmicCircos.install-out.txt --library=/Library/Frameworks/R.framework/Resources/library --no-vignettes --timings OmicCircos_1.45.0.tar.gz StartedAt: 2025-02-09 20:28:51 -0500 (Sun, 09 Feb 2025) EndedAt: 2025-02-09 20:29:22 -0500 (Sun, 09 Feb 2025) EllapsedTime: 31.4 seconds RetCode: 0 Status: WARNINGS CheckDir: OmicCircos.Rcheck Warnings: 1