Package: OmicCircos Version: 1.45.0 Command: /Library/Frameworks/R.framework/Resources/bin/R CMD INSTALL OmicCircos StartedAt: 2025-02-09 15:04:47 -0500 (Sun, 09 Feb 2025) EndedAt: 2025-02-09 15:04:53 -0500 (Sun, 09 Feb 2025) EllapsedTime: 5.4 seconds RetCode: 0 Status: OK