Package: OmicCircos Version: 1.45.0 Command: /home/biocbuild/R/R/bin/R CMD check --install=check:OmicCircos.install-out.txt --library=/home/biocbuild/R/R/site-library --no-vignettes --timings OmicCircos_1.45.0.tar.gz StartedAt: 2025-01-28 13:27:15 -0000 (Tue, 28 Jan 2025) EndedAt: 2025-01-28 13:29:27 -0000 (Tue, 28 Jan 2025) EllapsedTime: 131.4 seconds RetCode: 0 Status: WARNINGS CheckDir: OmicCircos.Rcheck Warnings: 1