Package: OmicCircos Version: 1.45.0 Command: rm -rf OmicCircos.buildbin-libdir && mkdir OmicCircos.buildbin-libdir && /Users/biocbuild/BBS/utils/build-universal.sh OmicCircos_1.45.0.tar.gz /Library/Frameworks/R.framework/Resources/bin/R OmicCircos.buildbin-libdir StartedAt: 2025-02-10 01:06:36 -0500 (Mon, 10 Feb 2025) EndedAt: 2025-02-10 01:06:56 -0500 (Mon, 10 Feb 2025) EllapsedTime: 19.7 seconds RetCode: 0 Status: OK PackageFile: OmicCircos_1.45.0.tgz PackageFileSize: 5.067 MiB