Package: OmicCircos Version: 1.45.0 Command: /Library/Frameworks/R.framework/Resources/bin/R CMD check --install=check:OmicCircos.install-out.txt --library=/Library/Frameworks/R.framework/Resources/library --no-vignettes --timings OmicCircos_1.45.0.tar.gz StartedAt: 2025-02-09 22:24:30 -0500 (Sun, 09 Feb 2025) EndedAt: 2025-02-09 22:26:03 -0500 (Sun, 09 Feb 2025) EllapsedTime: 93.5 seconds RetCode: 0 Status: WARNINGS CheckDir: OmicCircos.Rcheck Warnings: 1