Package: OmicCircos Version: 1.45.0 Command: /home/biocbuild/bbs-3.21-bioc/R/bin/R CMD build --keep-empty-dirs --no-resave-data OmicCircos StartedAt: 2025-02-03 18:37:40 -0500 (Mon, 03 Feb 2025) EndedAt: 2025-02-03 18:38:07 -0500 (Mon, 03 Feb 2025) EllapsedTime: 27.0 seconds RetCode: 0 Status: OK PackageFile: OmicCircos_1.45.0.tar.gz PackageFileSize: 2.808 MiB