Package: OmicCircos Version: 1.45.0 Command: /home/biocbuild/bbs-3.21-bioc/R/bin/R CMD check --install=check:OmicCircos.install-out.txt --library=/home/biocbuild/bbs-3.21-bioc/R/site-library --timings OmicCircos_1.45.0.tar.gz StartedAt: 2025-02-10 00:54:23 -0500 (Mon, 10 Feb 2025) EndedAt: 2025-02-10 00:55:56 -0500 (Mon, 10 Feb 2025) EllapsedTime: 93.1 seconds RetCode: 0 Status: WARNINGS CheckDir: OmicCircos.Rcheck Warnings: 1