Package: OmicCircos Version: 1.45.0 Command: /home/biocbuild/bbs-3.21-bioc/R/bin/R CMD INSTALL OmicCircos StartedAt: 2025-02-03 15:25:24 -0500 (Mon, 03 Feb 2025) EndedAt: 2025-02-03 15:25:36 -0500 (Mon, 03 Feb 2025) EllapsedTime: 11.6 seconds RetCode: 0 Status: OK