Package: OmicCircos Version: 1.45.0 Command: chmod a+r OmicCircos -R && E:\biocbuild\bbs-3.21-bioc\R\bin\R.exe CMD build --keep-empty-dirs --no-resave-data OmicCircos StartedAt: 2025-02-03 20:37:36 -0500 (Mon, 03 Feb 2025) EndedAt: 2025-02-03 20:56:26 -0500 (Mon, 03 Feb 2025) EllapsedTime: 1130.3 seconds RetCode: 0 Status: OK PackageFile: OmicCircos_1.45.0.tar.gz PackageFileSize: 3.619 MiB