Package: OmicCircos Version: 1.45.0 Command: E:\biocbuild\bbs-3.21-bioc\R\bin\R.exe CMD check --no-multiarch --install=check:OmicCircos.install-out.txt --library=E:\biocbuild\bbs-3.21-bioc\R\library --no-vignettes --timings OmicCircos_1.45.0.tar.gz StartedAt: 2025-02-04 04:11:21 -0500 (Tue, 04 Feb 2025) EndedAt: 2025-02-04 04:13:03 -0500 (Tue, 04 Feb 2025) EllapsedTime: 101.4 seconds RetCode: 0 Status: WARNINGS CheckDir: OmicCircos.Rcheck Warnings: 1