Package: OmicCircos Version: 1.45.0 Command: E:\biocbuild\bbs-3.21-bioc\R\bin\R.exe CMD INSTALL OmicCircos StartedAt: 2025-02-03 15:54:26 -0500 (Mon, 03 Feb 2025) EndedAt: 2025-02-03 15:54:53 -0500 (Mon, 03 Feb 2025) EllapsedTime: 26.6 seconds RetCode: 0 Status: OK