Package: Omixer Version: 1.17.0 Maintainer: Lucy Sinke MaintainerEmail: l.j.sinke at lumc.nl git_url: https://git.bioconductor.org/packages/Omixer git_branch: devel git_last_commit: c6bc854 git_last_commit_date: 2024-10-29 10:49:07 -0500 (Tue, 29 Oct 2024)