Package: Omixer Version: 1.17.0 Command: rm -rf Omixer.buildbin-libdir && mkdir Omixer.buildbin-libdir && /Users/biocbuild/BBS/utils/build-universal.sh Omixer_1.17.0.tar.gz /Library/Frameworks/R.framework/Resources/bin/R Omixer.buildbin-libdir StartedAt: 2025-02-09 22:24:11 -0500 (Sun, 09 Feb 2025) EndedAt: 2025-02-09 22:24:14 -0500 (Sun, 09 Feb 2025) EllapsedTime: 3.0 seconds RetCode: 0 Status: OK PackageFile: Omixer_1.17.0.tgz PackageFileSize: 1.058 MiB