Package: Omixer Version: 1.17.0 Command: /Library/Frameworks/R.framework/Resources/bin/R CMD build --keep-empty-dirs --no-resave-data Omixer StartedAt: 2025-02-12 17:09:14 -0500 (Wed, 12 Feb 2025) EndedAt: 2025-02-12 17:09:41 -0500 (Wed, 12 Feb 2025) EllapsedTime: 27.3 seconds RetCode: 0 Status: OK PackageFile: Omixer_1.17.0.tar.gz PackageFileSize: 1.407 MiB