Package: Omixer Version: 1.17.0 Command: /Library/Frameworks/R.framework/Resources/bin/R CMD check --install=check:Omixer.install-out.txt --library=/Library/Frameworks/R.framework/Resources/library --no-vignettes --timings Omixer_1.17.0.tar.gz StartedAt: 2025-02-09 20:29:46 -0500 (Sun, 09 Feb 2025) EndedAt: 2025-02-09 20:30:03 -0500 (Sun, 09 Feb 2025) EllapsedTime: 16.2 seconds RetCode: 0 Status: OK CheckDir: Omixer.Rcheck Warnings: 0