Package: Omixer Version: 1.17.0 Command: /Library/Frameworks/R.framework/Resources/bin/R CMD INSTALL Omixer StartedAt: 2025-02-09 15:06:18 -0500 (Sun, 09 Feb 2025) EndedAt: 2025-02-09 15:06:21 -0500 (Sun, 09 Feb 2025) EllapsedTime: 2.5 seconds RetCode: 0 Status: OK