Package: Omixer Version: 1.17.0 Command: /home/biocbuild/R/R/bin/R CMD INSTALL Omixer StartedAt: 2025-01-29 19:37:36 -0000 (Wed, 29 Jan 2025) EndedAt: 2025-01-29 19:37:41 -0000 (Wed, 29 Jan 2025) EllapsedTime: 5.2 seconds RetCode: 0 Status: OK