Package: Omixer Version: 1.17.0 Command: /Library/Frameworks/R.framework/Resources/bin/R CMD build --keep-empty-dirs --no-resave-data Omixer StartedAt: 2025-02-09 17:48:12 -0500 (Sun, 09 Feb 2025) EndedAt: 2025-02-09 17:49:40 -0500 (Sun, 09 Feb 2025) EllapsedTime: 88.0 seconds RetCode: 0 Status: OK PackageFile: Omixer_1.17.0.tar.gz PackageFileSize: 1.407 MiB