Package: Omixer Version: 1.17.0 Command: /home/biocbuild/bbs-3.21-bioc/R/bin/R CMD build --keep-empty-dirs --no-resave-data Omixer StartedAt: 2025-02-09 18:28:47 -0500 (Sun, 09 Feb 2025) EndedAt: 2025-02-09 18:30:08 -0500 (Sun, 09 Feb 2025) EllapsedTime: 81.1 seconds RetCode: 0 Status: OK PackageFile: Omixer_1.17.0.tar.gz PackageFileSize: 1.43 MiB