Package: Omixer Version: 1.17.0 Command: /home/biocbuild/bbs-3.21-bioc/R/bin/R CMD check --install=check:Omixer.install-out.txt --library=/home/biocbuild/bbs-3.21-bioc/R/site-library --timings Omixer_1.17.0.tar.gz StartedAt: 2025-02-10 00:55:15 -0500 (Mon, 10 Feb 2025) EndedAt: 2025-02-10 00:57:09 -0500 (Mon, 10 Feb 2025) EllapsedTime: 114.1 seconds RetCode: 0 Status: OK CheckDir: Omixer.Rcheck Warnings: 0