Package: Omixer Version: 1.17.0 Command: rm -rf Omixer.buildbin-libdir && mkdir Omixer.buildbin-libdir && E:\biocbuild\bbs-3.21-bioc\R\bin\R.exe CMD INSTALL --build --library=Omixer.buildbin-libdir Omixer_1.17.0.tar.gz StartedAt: 2025-02-10 08:19:04 -0500 (Mon, 10 Feb 2025) EndedAt: 2025-02-10 08:19:16 -0500 (Mon, 10 Feb 2025) EllapsedTime: 11.2 seconds RetCode: 0 Status: OK PackageFile: Omixer_1.17.0.zip PackageFileSize: 950.1 KiB