Package: Omixer Version: 1.17.0 Command: chmod a+r Omixer -R && E:\biocbuild\bbs-3.21-bioc\R\bin\R.exe CMD build --keep-empty-dirs --no-resave-data Omixer StartedAt: 2025-02-09 20:25:02 -0500 (Sun, 09 Feb 2025) EndedAt: 2025-02-09 20:26:52 -0500 (Sun, 09 Feb 2025) EllapsedTime: 110.2 seconds RetCode: 0 Status: OK PackageFile: Omixer_1.17.0.tar.gz PackageFileSize: 1.277 MiB