Package: Omixer Version: 1.17.0 Command: E:\biocbuild\bbs-3.21-bioc\R\bin\R.exe CMD check --no-multiarch --install=check:Omixer.install-out.txt --library=E:\biocbuild\bbs-3.21-bioc\R\library --no-vignettes --timings Omixer_1.17.0.tar.gz StartedAt: 2025-02-10 03:44:37 -0500 (Mon, 10 Feb 2025) EndedAt: 2025-02-10 03:45:36 -0500 (Mon, 10 Feb 2025) EllapsedTime: 59.1 seconds RetCode: 0 Status: OK CheckDir: Omixer.Rcheck Warnings: 0