Package: OmnipathR Version: 3.15.4 Maintainer: Denes Turei MaintainerEmail: turei.denes at gmail.com git_url: https://git.bioconductor.org/packages/OmnipathR git_branch: devel git_last_commit: e1046ad git_last_commit_date: 2025-01-31 18:48:53 -0500 (Fri, 31 Jan 2025)