Package: OmnipathR Version: 3.15.0 Command: rm -rf OmnipathR.buildbin-libdir && mkdir OmnipathR.buildbin-libdir && /Users/biocbuild/BBS/utils/build-universal.sh OmnipathR_3.15.0.tar.gz /Library/Frameworks/R.framework/Resources/bin/R OmnipathR.buildbin-libdir StartedAt: 2025-01-31 22:26:02 -0500 (Fri, 31 Jan 2025) EndedAt: 2025-01-31 22:26:10 -0500 (Fri, 31 Jan 2025) EllapsedTime: 8.2 seconds RetCode: 0 Status: OK PackageFile: OmnipathR_3.15.0.tgz PackageFileSize: 3.61 MiB