Package: OmnipathR Version: 3.15.6 Command: /Library/Frameworks/R.framework/Resources/bin/R CMD build --keep-empty-dirs --no-resave-data OmnipathR StartedAt: 2025-02-04 17:09:37 -0500 (Tue, 04 Feb 2025) EndedAt: 2025-02-04 17:18:04 -0500 (Tue, 04 Feb 2025) EllapsedTime: 507.7 seconds RetCode: 1 Status: ERROR PackageFile: None PackageFileSize: NA