Package: OmnipathR Version: 3.15.0 Command: /home/biocbuild/R/R/bin/R CMD INSTALL OmnipathR StartedAt: 2025-01-29 20:09:31 -0000 (Wed, 29 Jan 2025) EndedAt: 2025-01-29 20:09:55 -0000 (Wed, 29 Jan 2025) EllapsedTime: 24.6 seconds RetCode: 0 Status: OK