Package: OmnipathR Version: 3.15.6 Command: /Library/Frameworks/R.framework/Resources/bin/R CMD build --keep-empty-dirs --no-resave-data OmnipathR StartedAt: 2025-02-09 17:48:15 -0500 (Sun, 09 Feb 2025) EndedAt: 2025-02-09 18:07:40 -0500 (Sun, 09 Feb 2025) EllapsedTime: 1165.3 seconds RetCode: 1 Status: ERROR PackageFile: None PackageFileSize: NA