Package: OmnipathR Version: 3.15.6 Command: /home/biocbuild/bbs-3.21-bioc/R/bin/R CMD build --keep-empty-dirs --no-resave-data OmnipathR StartedAt: 2025-02-04 18:26:43 -0500 (Tue, 04 Feb 2025) EndedAt: 2025-02-04 18:40:17 -0500 (Tue, 04 Feb 2025) EllapsedTime: 813.2 seconds RetCode: 1 Status: ERROR PackageFile: None PackageFileSize: NA