Package: OmnipathR Version: 3.15.0 Command: /home/biocbuild/bbs-3.21-bioc/R/bin/R CMD check --install=check:OmnipathR.install-out.txt --library=/home/biocbuild/bbs-3.21-bioc/R/site-library --timings OmnipathR_3.15.0.tar.gz StartedAt: 2025-02-01 00:50:31 -0500 (Sat, 01 Feb 2025) EndedAt: 2025-02-01 01:16:18 -0500 (Sat, 01 Feb 2025) EllapsedTime: 1546.5 seconds RetCode: 0 Status: OK CheckDir: OmnipathR.Rcheck Warnings: 0