############################################################################## ############################################################################## ### ### Running command: ### ### /home/biocbuild/bbs-3.21-bioc/R/bin/R CMD INSTALL OmnipathR ### ############################################################################## ############################################################################## * installing to library ‘/home/biocbuild/bbs-3.21-bioc/R/site-library’ * installing *source* package ‘OmnipathR’ ... ** this is package ‘OmnipathR’ version ‘3.15.6’ ** using staged installation ** R ** inst ** byte-compile and prepare package for lazy loading ** help *** installing help indices *** copying figures ** building package indices ** installing vignettes ** testing if installed package can be loaded from temporary location [2025-02-04 15:07:51] [TRACE] [OmnipathR] Reading JSON from `/home/biocbuild/.cache/OmnipathR/cache.json` (encoding: UTF-8). [2025-02-04 15:07:51] [TRACE] [OmnipathR] JSON validation successful: TRUE [2025-02-04 15:07:51] [INFO] [OmnipathR] Initialized cache: `/home/biocbuild/.cache/OmnipathR`. [2025-02-04 15:07:51] [INFO] [OmnipathR] Package `OmnipathR` packaged: NA [2025-02-04 15:07:51] [INFO] [OmnipathR] Package `OmnipathR` date/publication: 2025-02-04 [2025-02-04 15:07:51] [INFO] [OmnipathR] Package `OmnipathR` built: R 4.5.0; ; 2025-02-04 20:07:38 UTC; unix [2025-02-04 15:07:51] [INFO] [OmnipathR] Package `OmnipathR` version: 3.15.6 [2025-02-04 15:07:51] [INFO] [OmnipathR] Package `OmnipathR` repository: Bioconductor 3.21 [2025-02-04 15:07:51] [INFO] [OmnipathR] Session info: [version=R Under development (unstable) (2025-01-20 r87609); os=Ubuntu 24.04.1 LTS; system=x86_64, linux-gnu; ui=X11; language=(EN); collate=C; ctype=en_US.UTF-8; tz=America/New_York; date=2025-02-04; pandoc=2.7.3 @ /usr/bin/ (via rmarkdown)] [2025-02-04 15:07:51] [INFO] [OmnipathR] External libraries: [cairo=1.18.0; cairoFT=; pango=1.52.1; png=1.6.43; jpeg=8.0; tiff=LIBTIFF, Version 4.5.1; tcl=8.6.14; curl=8.5.0; zlib=1.3; bzlib=1.0.8, 13-Jul-2019; xz=5.4.5; deflate=1.19; PCRE=10.42 2022-12-11; ICU=74.2; TRE=TRE 0.8.0 R_fixes (BSD); iconv=glibc 2.39; readline=8.2; BLAS=/home/biocbuild/bbs-3.21-bioc/R/lib/libRblas.so; lapack=/usr/lib/x86_64-linux-gnu/lapack/liblapack.so.3.12.0; lapack_version=3.12.0] [2025-02-04 15:07:51] [INFO] [OmnipathR] CURL: version: 8.5.0; headers: 8.5.0; ssl_version: OpenSSL/3.0.13; libz_version: 1.3; libssh_version: libssh/0.10.6/openssl/zlib; libidn_version: 2.3.7; host: x86_64-pc-linux-gnu; protocols: dict, file, ftp, ftps, gopher, gophers, http, https, imap, imaps, ldap, ldaps, mqtt, pop3, pop3s, rtmp, rtmpe, rtmps, rtmpt, rtmpte, rtmpts, rtsp, scp, sftp, smb, smbs, smtp, smtps, telnet, tftp; ipv6: TRUE; http2: TRUE; idn: TRUE; url_parser: TRUE [2025-02-04 15:07:51] [TRACE] [OmnipathR] Running on a build server, wiping cache. [2025-02-04 15:07:51] [TRACE] [OmnipathR] Cache is at `/home/biocbuild/.cache/OmnipathR`. [2025-02-04 15:07:51] [TRACE] [OmnipathR] Contains 2 files. [2025-02-04 15:07:51] [TRACE] [OmnipathR] Cache is locked: FALSE. [2025-02-04 15:07:51] [TRACE] [OmnipathR] Reading JSON from `/home/biocbuild/.cache/OmnipathR/cache.json` (encoding: UTF-8). [2025-02-04 15:07:51] [TRACE] [OmnipathR] JSON validation successful: TRUE [2025-02-04 15:07:51] [SUCCESS] [OmnipathR] Removing all cache contents from `/home/biocbuild/.cache/OmnipathR`. [2025-02-04 15:07:51] [TRACE] [OmnipathR] Pandoc version: `2.7.3`. [2025-02-04 15:07:51] [TRACE] [OmnipathR] Reading JSON from `/home/biocbuild/bbs-3.21-bioc/R/site-library/00LOCK-OmnipathR/00new/OmnipathR/db/db_def.json` (encoding: UTF-8). [2025-02-04 15:07:51] [TRACE] [OmnipathR] JSON validation successful: TRUE [2025-02-04 15:07:51] [TRACE] [OmnipathR] Reading JSON from `/home/biocbuild/bbs-3.21-bioc/R/site-library/00LOCK-OmnipathR/00new/OmnipathR/internal/magic_bytes.json` (encoding: UTF-8). [2025-02-04 15:07:51] [TRACE] [OmnipathR] JSON validation successful: TRUE [2025-02-04 15:07:51] [TRACE] [OmnipathR] Reading JSON from `/home/biocbuild/bbs-3.21-bioc/R/site-library/00LOCK-OmnipathR/00new/OmnipathR/internal/urls.json` (encoding: UTF-8). [2025-02-04 15:07:51] [TRACE] [OmnipathR] JSON validation successful: TRUE [2025-02-04 15:07:51] [TRACE] [OmnipathR] Reading JSON from `/home/biocbuild/bbs-3.21-bioc/R/site-library/00LOCK-OmnipathR/00new/OmnipathR/internal/id_types.json` (encoding: UTF-8). [2025-02-04 15:07:51] [TRACE] [OmnipathR] JSON validation successful: TRUE [2025-02-04 15:07:51] [TRACE] [OmnipathR] Cache locked: FALSE ** testing if installed package can be loaded from final location [2025-02-04 15:07:53] [TRACE] [OmnipathR] Reading JSON from `/home/biocbuild/.cache/OmnipathR/cache.json` (encoding: UTF-8). [2025-02-04 15:07:53] [TRACE] [OmnipathR] JSON validation successful: TRUE [2025-02-04 15:07:53] [INFO] [OmnipathR] Initialized cache: `/home/biocbuild/.cache/OmnipathR`. [2025-02-04 15:07:53] [INFO] [OmnipathR] Package `OmnipathR` packaged: NA [2025-02-04 15:07:53] [INFO] [OmnipathR] Package `OmnipathR` date/publication: 2025-02-04 [2025-02-04 15:07:53] [INFO] [OmnipathR] Package `OmnipathR` built: R 4.5.0; ; 2025-02-04 20:07:38 UTC; unix [2025-02-04 15:07:53] [INFO] [OmnipathR] Package `OmnipathR` version: 3.15.6 [2025-02-04 15:07:53] [INFO] [OmnipathR] Package `OmnipathR` repository: Bioconductor 3.21 [2025-02-04 15:07:53] [INFO] [OmnipathR] Session info: [version=R Under development (unstable) (2025-01-20 r87609); os=Ubuntu 24.04.1 LTS; system=x86_64, linux-gnu; ui=X11; language=(EN); collate=C; ctype=en_US.UTF-8; tz=America/New_York; date=2025-02-04; pandoc=2.7.3 @ /usr/bin/ (via rmarkdown)] [2025-02-04 15:07:54] [INFO] [OmnipathR] External libraries: [cairo=1.18.0; cairoFT=; pango=1.52.1; png=1.6.43; jpeg=8.0; tiff=LIBTIFF, Version 4.5.1; tcl=8.6.14; curl=8.5.0; zlib=1.3; bzlib=1.0.8, 13-Jul-2019; xz=5.4.5; deflate=1.19; PCRE=10.42 2022-12-11; ICU=74.2; TRE=TRE 0.8.0 R_fixes (BSD); iconv=glibc 2.39; readline=8.2; BLAS=/home/biocbuild/bbs-3.21-bioc/R/lib/libRblas.so; lapack=/usr/lib/x86_64-linux-gnu/lapack/liblapack.so.3.12.0; lapack_version=3.12.0] [2025-02-04 15:07:54] [INFO] [OmnipathR] CURL: version: 8.5.0; headers: 8.5.0; ssl_version: OpenSSL/3.0.13; libz_version: 1.3; libssh_version: libssh/0.10.6/openssl/zlib; libidn_version: 2.3.7; host: x86_64-pc-linux-gnu; protocols: dict, file, ftp, ftps, gopher, gophers, http, https, imap, imaps, ldap, ldaps, mqtt, pop3, pop3s, rtmp, rtmpe, rtmps, rtmpt, rtmpte, rtmpts, rtsp, scp, sftp, smb, smbs, smtp, smtps, telnet, tftp; ipv6: TRUE; http2: TRUE; idn: TRUE; url_parser: TRUE [2025-02-04 15:07:54] [TRACE] [OmnipathR] Running on a build server, wiping cache. [2025-02-04 15:07:54] [TRACE] [OmnipathR] Cache is at `/home/biocbuild/.cache/OmnipathR`. [2025-02-04 15:07:54] [TRACE] [OmnipathR] Contains 1 files. [2025-02-04 15:07:54] [TRACE] [OmnipathR] Cache is locked: FALSE. [2025-02-04 15:07:54] [TRACE] [OmnipathR] Reading JSON from `/home/biocbuild/.cache/OmnipathR/cache.json` (encoding: UTF-8). [2025-02-04 15:07:54] [TRACE] [OmnipathR] JSON validation successful: TRUE [2025-02-04 15:07:54] [SUCCESS] [OmnipathR] Removing all cache contents from `/home/biocbuild/.cache/OmnipathR`. [2025-02-04 15:07:54] [TRACE] [OmnipathR] Pandoc version: `2.7.3`. [2025-02-04 15:07:54] [TRACE] [OmnipathR] Reading JSON from `/home/biocbuild/bbs-3.21-bioc/R/site-library/OmnipathR/db/db_def.json` (encoding: UTF-8). [2025-02-04 15:07:54] [TRACE] [OmnipathR] JSON validation successful: TRUE [2025-02-04 15:07:54] [TRACE] [OmnipathR] Reading JSON from `/home/biocbuild/bbs-3.21-bioc/R/site-library/OmnipathR/internal/magic_bytes.json` (encoding: UTF-8). [2025-02-04 15:07:54] [TRACE] [OmnipathR] JSON validation successful: TRUE [2025-02-04 15:07:54] [TRACE] [OmnipathR] Reading JSON from `/home/biocbuild/bbs-3.21-bioc/R/site-library/OmnipathR/internal/urls.json` (encoding: UTF-8). [2025-02-04 15:07:54] [TRACE] [OmnipathR] JSON validation successful: TRUE [2025-02-04 15:07:54] [TRACE] [OmnipathR] Reading JSON from `/home/biocbuild/bbs-3.21-bioc/R/site-library/OmnipathR/internal/id_types.json` (encoding: UTF-8). [2025-02-04 15:07:54] [TRACE] [OmnipathR] JSON validation successful: TRUE [2025-02-04 15:07:54] [TRACE] [OmnipathR] Cache locked: FALSE ** testing if installed package keeps a record of temporary installation path * DONE (OmnipathR)