Package: OmnipathR Version: 3.15.6 Command: /home/biocbuild/bbs-3.21-bioc/R/bin/R CMD INSTALL OmnipathR StartedAt: 2025-02-04 15:07:38 -0500 (Tue, 04 Feb 2025) EndedAt: 2025-02-04 15:07:55 -0500 (Tue, 04 Feb 2025) EllapsedTime: 17.3 seconds RetCode: 0 Status: OK