Package: OmnipathR Version: 3.15.6 Command: chmod a+r OmnipathR -R && E:\biocbuild\bbs-3.21-bioc\R\bin\R.exe CMD build --keep-empty-dirs --no-resave-data OmnipathR StartedAt: 2025-02-04 20:27:23 -0500 (Tue, 04 Feb 2025) EndedAt: 2025-02-04 20:44:38 -0500 (Tue, 04 Feb 2025) EllapsedTime: 1034.8 seconds RetCode: 1 Status: ERROR PackageFile: None PackageFileSize: NA