Package: OncoSimulR Version: 4.9.0 Command: /Library/Frameworks/R.framework/Resources/bin/R CMD build --keep-empty-dirs --no-resave-data OncoSimulR StartedAt: 2025-02-09 17:48:32 -0500 (Sun, 09 Feb 2025) EndedAt: 2025-02-09 17:56:00 -0500 (Sun, 09 Feb 2025) EllapsedTime: 448.3 seconds RetCode: 0 Status: OK PackageFile: OncoSimulR_4.9.0.tar.gz PackageFileSize: 9.12 MiB