Package: OncoSimulR Version: 4.9.0 Command: /Library/Frameworks/R.framework/Resources/bin/R CMD INSTALL OncoSimulR StartedAt: 2025-02-09 15:32:20 -0500 (Sun, 09 Feb 2025) EndedAt: 2025-02-09 15:34:58 -0500 (Sun, 09 Feb 2025) EllapsedTime: 158.1 seconds RetCode: 0 Status: OK