Package: OncoSimulR Version: 4.9.0 Command: /home/biocbuild/bbs-3.21-bioc/R/bin/R CMD build --keep-empty-dirs --no-resave-data OncoSimulR StartedAt: 2025-02-09 18:29:38 -0500 (Sun, 09 Feb 2025) EndedAt: 2025-02-09 18:36:30 -0500 (Sun, 09 Feb 2025) EllapsedTime: 411.7 seconds RetCode: 0 Status: OK PackageFile: OncoSimulR_4.9.0.tar.gz PackageFileSize: 8.301 MiB