Package: OncoSimulR Version: 4.9.0 Command: /home/biocbuild/bbs-3.21-bioc/R/bin/R CMD check --install=check:OncoSimulR.install-out.txt --library=/home/biocbuild/bbs-3.21-bioc/R/site-library --timings OncoSimulR_4.9.0.tar.gz StartedAt: 2025-02-10 00:56:18 -0500 (Mon, 10 Feb 2025) EndedAt: 2025-02-10 01:02:28 -0500 (Mon, 10 Feb 2025) EllapsedTime: 370.6 seconds RetCode: 0 Status: OK CheckDir: OncoSimulR.Rcheck Warnings: 0