Package: OncoSimulR Version: 4.9.0 Command: /home/biocbuild/bbs-3.21-bioc/R/bin/R CMD INSTALL OncoSimulR StartedAt: 2025-02-09 15:14:49 -0500 (Sun, 09 Feb 2025) EndedAt: 2025-02-09 15:17:23 -0500 (Sun, 09 Feb 2025) EllapsedTime: 154.3 seconds RetCode: 0 Status: OK