Package: OncoSimulR Version: 4.9.0 Command: rm -rf OncoSimulR.buildbin-libdir && mkdir OncoSimulR.buildbin-libdir && E:\biocbuild\bbs-3.21-bioc\R\bin\R.exe CMD INSTALL --build --library=OncoSimulR.buildbin-libdir OncoSimulR_4.9.0.tar.gz StartedAt: 2025-02-10 08:19:22 -0500 (Mon, 10 Feb 2025) EndedAt: 2025-02-10 08:23:30 -0500 (Mon, 10 Feb 2025) EllapsedTime: 248.2 seconds RetCode: 0 Status: OK PackageFile: OncoSimulR_4.9.0.zip PackageFileSize: 4.744 MiB