Package: OncoSimulR Version: 4.9.0 Command: chmod a+r OncoSimulR -R && E:\biocbuild\bbs-3.21-bioc\R\bin\R.exe CMD build --keep-empty-dirs --no-resave-data OncoSimulR StartedAt: 2025-02-09 20:26:14 -0500 (Sun, 09 Feb 2025) EndedAt: 2025-02-09 20:44:37 -0500 (Sun, 09 Feb 2025) EllapsedTime: 1103.1 seconds RetCode: 0 Status: OK PackageFile: OncoSimulR_4.9.0.tar.gz PackageFileSize: 4.005 MiB