Package: OncoSimulR Version: 4.9.0 Command: E:\biocbuild\bbs-3.21-bioc\R\bin\R.exe CMD check --no-multiarch --install=check:OncoSimulR.install-out.txt --library=E:\biocbuild\bbs-3.21-bioc\R\library --no-vignettes --timings OncoSimulR_4.9.0.tar.gz StartedAt: 2025-02-10 03:46:01 -0500 (Mon, 10 Feb 2025) EndedAt: 2025-02-10 03:54:31 -0500 (Mon, 10 Feb 2025) EllapsedTime: 509.7 seconds RetCode: 0 Status: OK CheckDir: OncoSimulR.Rcheck Warnings: 0