Package: OpenStats Version: 1.19.1 Command: rm -rf OpenStats.buildbin-libdir && mkdir OpenStats.buildbin-libdir && /Users/biocbuild/BBS/utils/build-universal.sh OpenStats_1.19.1.tar.gz /Library/Frameworks/R.framework/Resources/bin/R OpenStats.buildbin-libdir StartedAt: 2025-02-09 22:24:21 -0500 (Sun, 09 Feb 2025) EndedAt: 2025-02-09 22:24:27 -0500 (Sun, 09 Feb 2025) EllapsedTime: 6.2 seconds RetCode: 0 Status: OK PackageFile: OpenStats_1.19.1.tgz PackageFileSize: 916.5 KiB