Package: OpenStats Version: 1.19.1 Command: /Library/Frameworks/R.framework/Resources/bin/R CMD check --install=check:OpenStats.install-out.txt --library=/Library/Frameworks/R.framework/Resources/library --no-vignettes --timings OpenStats_1.19.1.tar.gz StartedAt: 2025-02-03 21:06:53 -0500 (Mon, 03 Feb 2025) EndedAt: 2025-02-03 21:07:31 -0500 (Mon, 03 Feb 2025) EllapsedTime: 38.4 seconds RetCode: 0 Status: OK CheckDir: OpenStats.Rcheck Warnings: 0