Package: OpenStats Version: 1.19.1 Command: /home/biocbuild/R/R/bin/R CMD build --keep-empty-dirs --no-resave-data OpenStats StartedAt: 2025-01-29 01:01:56 -0000 (Wed, 29 Jan 2025) EndedAt: 2025-01-29 01:02:42 -0000 (Wed, 29 Jan 2025) EllapsedTime: 46.1 seconds RetCode: 0 Status: OK PackageFile: OpenStats_1.19.1.tar.gz PackageFileSize: 435.4 KiB