Package: OpenStats Version: 1.19.1 Command: /home/biocbuild/R/R/bin/R CMD INSTALL OpenStats StartedAt: 2025-01-29 20:20:31 -0000 (Wed, 29 Jan 2025) EndedAt: 2025-01-29 20:20:49 -0000 (Wed, 29 Jan 2025) EllapsedTime: 18.7 seconds RetCode: 0 Status: OK