Package: OpenStats Version: 1.19.1 Command: rm -rf OpenStats.buildbin-libdir && mkdir OpenStats.buildbin-libdir && /Users/biocbuild/BBS/utils/build-universal.sh OpenStats_1.19.1.tar.gz /Library/Frameworks/R.framework/Resources/bin/R OpenStats.buildbin-libdir StartedAt: 2025-02-10 01:06:53 -0500 (Mon, 10 Feb 2025) EndedAt: 2025-02-10 01:07:14 -0500 (Mon, 10 Feb 2025) EllapsedTime: 21.7 seconds RetCode: 0 Status: OK PackageFile: OpenStats_1.19.1.tgz PackageFileSize: 915.5 KiB