Package: OpenStats Version: 1.19.1 Command: /Library/Frameworks/R.framework/Resources/bin/R CMD check --install=check:OpenStats.install-out.txt --library=/Library/Frameworks/R.framework/Resources/library --no-vignettes --timings OpenStats_1.19.1.tar.gz StartedAt: 2025-02-09 22:27:14 -0500 (Sun, 09 Feb 2025) EndedAt: 2025-02-09 22:29:11 -0500 (Sun, 09 Feb 2025) EllapsedTime: 116.9 seconds RetCode: 0 Status: OK CheckDir: OpenStats.Rcheck Warnings: 0