Package: OpenStats Version: 1.19.1 Command: /Library/Frameworks/R.framework/Resources/bin/R CMD INSTALL OpenStats StartedAt: 2025-02-09 15:34:54 -0500 (Sun, 09 Feb 2025) EndedAt: 2025-02-09 15:35:14 -0500 (Sun, 09 Feb 2025) EllapsedTime: 20.5 seconds RetCode: 0 Status: OK