Package: OpenStats Version: 1.19.1 Command: /home/biocbuild/bbs-3.21-bioc/R/bin/R CMD build --keep-empty-dirs --no-resave-data OpenStats StartedAt: 2025-02-09 18:30:08 -0500 (Sun, 09 Feb 2025) EndedAt: 2025-02-09 18:30:32 -0500 (Sun, 09 Feb 2025) EllapsedTime: 24.0 seconds RetCode: 0 Status: OK PackageFile: OpenStats_1.19.1.tar.gz PackageFileSize: 576.2 KiB